BEGIN:VCALENDAR
VERSION:2.0
PRODID:-//Ampersand Integrative Wellness - ECPv6.15.12.2//NONSGML v1.0//EN
CALSCALE:GREGORIAN
METHOD:PUBLISH
X-WR-CALNAME:Ampersand Integrative Wellness
X-ORIGINAL-URL:https://www.ampersandintegrative.com
X-WR-CALDESC:Events for Ampersand Integrative Wellness
REFRESH-INTERVAL;VALUE=DURATION:PT1H
X-Robots-Tag:noindex
X-PUBLISHED-TTL:PT1H
BEGIN:VTIMEZONE
TZID:America/New_York
BEGIN:DAYLIGHT
TZOFFSETFROM:-0500
TZOFFSETTO:-0400
TZNAME:EDT
DTSTART:20180311T070000
END:DAYLIGHT
BEGIN:STANDARD
TZOFFSETFROM:-0400
TZOFFSETTO:-0500
TZNAME:EST
DTSTART:20181104T060000
END:STANDARD
BEGIN:DAYLIGHT
TZOFFSETFROM:-0500
TZOFFSETTO:-0400
TZNAME:EDT
DTSTART:20190310T070000
END:DAYLIGHT
BEGIN:STANDARD
TZOFFSETFROM:-0400
TZOFFSETTO:-0500
TZNAME:EST
DTSTART:20191103T060000
END:STANDARD
BEGIN:DAYLIGHT
TZOFFSETFROM:-0500
TZOFFSETTO:-0400
TZNAME:EDT
DTSTART:20200308T070000
END:DAYLIGHT
BEGIN:STANDARD
TZOFFSETFROM:-0400
TZOFFSETTO:-0500
TZNAME:EST
DTSTART:20201101T060000
END:STANDARD
BEGIN:DAYLIGHT
TZOFFSETFROM:-0500
TZOFFSETTO:-0400
TZNAME:EDT
DTSTART:20210314T070000
END:DAYLIGHT
BEGIN:STANDARD
TZOFFSETFROM:-0400
TZOFFSETTO:-0500
TZNAME:EST
DTSTART:20211107T060000
END:STANDARD
END:VTIMEZONE
BEGIN:VEVENT
DTSTART;TZID=America/New_York:20200116T193000
DTEND;TZID=America/New_York:20200116T203000
DTSTAMP:20260421T193238
CREATED:20191220T214504Z
LAST-MODIFIED:20200416T203447Z
UID:1539-1579203000-1579206600@www.ampersandintegrative.com
SUMMARY:Yin Yoga
DESCRIPTION:Work the connective tissues of the ligaments\, joints and deep fascia networks in this meditative practice focused on deep stretching\, breathing and relaxation. Props are used to support the body as postures are held for an extended time allowing for deep stretches that are soft\, rather than muscle driven. Class ends with a guided Yoga Nidra savasana “yogic sleep” – a conscious state between wakefulness and sleep. I will guide students to shift their attention in a practice of letting go\, willful emptying that leads to calmness\, quietness and clarity. Best for beginner to intermediate level practitioners. \n  \nThis class will be held on Zoom. Email amiley@ampersandintegrative.com to receive the Zoom link.
URL:https://www.ampersandintegrative.com/event/yin-yoga/
LOCATION:Ampersand Integrative Wellness\, 7 Bristol Ct.\, Wyomissing\, PA\, 19610\, United States
ATTACH;FMTTYPE=image/jpeg:https://www.ampersandintegrative.com/wp-content/uploads/2019/12/silhouette-of-man-at-daytime-1051838-1-scaled-e1576879712637.jpg
ORGANIZER;CN="Ampersand Integrative Wellness":MAILTO:info@ampersandintegrative.com
END:VEVENT
BEGIN:VEVENT
DTSTART;TZID=America/New_York:20200114T190000
DTEND;TZID=America/New_York:20200114T200000
DTSTAMP:20260421T193238
CREATED:20191220T210808Z
LAST-MODIFIED:20200416T202722Z
UID:1532-1579028400-1579032000@www.ampersandintegrative.com
SUMMARY:Tranquil Tuesday - Breathwork\, Meditation & Movement
DESCRIPTION:This class will focus on various styles and traditions such as breath/pranayama\, mindfulness\, as well as some gentle movement. You will leave this class feeling refreshed and grounded. All are welcome. \n  \nClass is held on Zoom. \nEmail amiley@ampersandintegrative.com to receive Zoom link.
URL:https://www.ampersandintegrative.com/event/tranquil-tuesday-breathwork-meditation-movement/
LOCATION:Ampersand Integrative Wellness\, 7 Bristol Ct.\, Wyomissing\, PA\, 19610\, United States
ATTACH;FMTTYPE=image/jpeg:https://www.ampersandintegrative.com/wp-content/uploads/2019/12/amazing-balance-blur-boulder-312839-scaled-e1576876032893.jpg
ORGANIZER;CN="Ampersand Integrative Wellness":MAILTO:info@ampersandintegrative.com
END:VEVENT
BEGIN:VEVENT
DTSTART;VALUE=DATE:20191202
DTEND;VALUE=DATE:20191203
DTSTAMP:20260421T193238
CREATED:20191112T151241Z
LAST-MODIFIED:20191112T151241Z
UID:1386-1575244800-1575331199@www.ampersandintegrative.com
SUMMARY:Soft Opening
DESCRIPTION:Ampersand Integrative Wellness will be open to the public.
URL:https://www.ampersandintegrative.com/event/soft-opening/
LOCATION:Ampersand Integrative Wellness\, 7 Bristol Ct.\, Wyomissing\, PA\, 19610\, United States
CATEGORIES:Special Events
ATTACH;FMTTYPE=image/jpeg:https://www.ampersandintegrative.com/wp-content/uploads/2019/11/ev-SoftOpening.jpg
ORGANIZER;CN="Ampersand Integrative Wellness":MAILTO:info@ampersandintegrative.com
END:VEVENT
END:VCALENDAR